BEGIN:VCALENDAR
PRODID:-//Amazone Events Calendar//iCal4j 1.0//EN
VERSION:2.0
CALSCALE:GREGORIAN
BEGIN:VEVENT
DTSTAMP:20260423T140609Z
DTSTART:20260521T080000
DTEND:20260521T200000
SUMMARY:AMATECHNICA
UID:0e019766-1dba-4371-8300-3b8e10210dcb
LOCATION:Gaste
COUNTRY:Germany
END:VEVENT
END:VCALENDAR
